BEGIN:VCALENDAR
VERSION:2.0
PRODID:-//ChamberMaster//Event Calendar 2.0//EN
METHOD:PUBLISH
X-PUBLISHED-TTL:P3D
REFRESH-INTERVAL:P3D
CALSCALE:GREGORIAN
BEGIN:VEVENT
DTSTART;VALUE=DATE:20191015
DTEND;VALUE=DATE:20191016
TRANSP:TRANSPARENT
X-MICROSOFT-CDO-ALLDAYEVENT:TRUE
SUMMARY:Implementing Evidence-based Instructional Practices
DESCRIPTION:Implementing Evidence-based Instructional Practices\n\nOctober 16\, 2019\n\nWesterville Public Library\n\n\n\nThis session will provide an in-depth training session on the most impactful evidence-based strategies from names like Marzano\, Hattie\, and Schmoker. This workshop is interactive and offers a myriad of resources. Register here.
X-ALT-DESC;FMTTYPE=text/html:<span style="font-family:verdana\;"><strong>Implementing Evidence-based Instructional Practices</strong><br />\nOctober 16\, 2019<br />\nWesterville Public Library<br />\n<br />\nThis session will provide an in-depth training session on the most impactful evidence-based strategies from names like Marzano\, Hattie\, and Schmoker. This workshop is interactive and offers a myriad of resources. Register <a href="https://docs.google.com/forms/d/e/1FAIpQLSecTJ_wwAzDVVnSFrwSbZEflsHgVxY1fJuc5g1zVAgTMxX1hA/viewform">here.</a>&nbsp\;</span>
LOCATION:Westerville Public Library 126 South State Street Westerville\, Ohio 43081
UID:e.1451.13613
SEQUENCE:3
DTSTAMP:20260421T094815Z
URL:http://pickeringtonchamber.chambermaster.com/events/details/implementing-evidence-based-instructional-practices-13613
END:VEVENT

END:VCALENDAR
