BEGIN:VCALENDAR
VERSION:2.0
PRODID:-//ChamberMaster//Event Calendar 2.0//EN
METHOD:PUBLISH
X-PUBLISHED-TTL:P3D
REFRESH-INTERVAL:P3D
CALSCALE:GREGORIAN
BEGIN:VEVENT
DTSTART:20190830T123000Z
DTEND:20190830T200000Z
X-MICROSOFT-CDO-ALLDAYEVENT:FALSE
SUMMARY:2019 Doug Barr Golf Outing
DESCRIPTION:The Annual Doug Barr Golf Outing funds the Foundation.  All proceeds go toward scholarships and donations we make to the community.  We are 100% not for profit.  \n\n\n\nThe outing is based on a 4-person scramble format.  The outing will include golf\, food\, games\, and prizes.  Beverages will be available for purchase.
X-ALT-DESC;FMTTYPE=text/html:<br />\nThe Annual Doug Barr Golf Outing funds the Foundation.&nbsp\; All proceeds go toward scholarships and donations we make to the community.&nbsp\; We are 100% not for profit.&nbsp\;&nbsp\;<br />\n<br />\nThe outing is based on a 4-person scramble format.&nbsp\; The outing will include golf\, food\, games\, and prizes.&nbsp\; Beverages will be available for purchase.
LOCATION:Homestead Springs Golf Course 5888 London & Lancaster Rd. Groveport\, OH 431258
UID:e.1451.13434
SEQUENCE:3
DTSTAMP:20260423T062434Z
URL:http://pickeringtonchamber.chambermaster.com/events/details/2019-doug-barr-golf-outing-13434
END:VEVENT

END:VCALENDAR
